BEGIN:VCALENDAR
VERSION:2.0
PRODID:-//International Space Hall of Fame Foundation - ECPv6.15.20//NONSGML v1.0//EN
CALSCALE:GREGORIAN
METHOD:PUBLISH
X-WR-CALNAME:International Space Hall of Fame Foundation
X-ORIGINAL-URL:https://www.spacehalloffame.org
X-WR-CALDESC:Events for International Space Hall of Fame Foundation
REFRESH-INTERVAL;VALUE=DURATION:PT1H
X-Robots-Tag:noindex
X-PUBLISHED-TTL:PT1H
BEGIN:VTIMEZONE
TZID:America/Denver
BEGIN:DAYLIGHT
TZOFFSETFROM:-0700
TZOFFSETTO:-0600
TZNAME:MDT
DTSTART:20240310T090000
END:DAYLIGHT
BEGIN:STANDARD
TZOFFSETFROM:-0600
TZOFFSETTO:-0700
TZNAME:MST
DTSTART:20241103T080000
END:STANDARD
BEGIN:DAYLIGHT
TZOFFSETFROM:-0700
TZOFFSETTO:-0600
TZNAME:MDT
DTSTART:20250309T090000
END:DAYLIGHT
BEGIN:STANDARD
TZOFFSETFROM:-0600
TZOFFSETTO:-0700
TZNAME:MST
DTSTART:20251102T080000
END:STANDARD
BEGIN:DAYLIGHT
TZOFFSETFROM:-0700
TZOFFSETTO:-0600
TZNAME:MDT
DTSTART:20260308T090000
END:DAYLIGHT
BEGIN:STANDARD
TZOFFSETFROM:-0600
TZOFFSETTO:-0700
TZNAME:MST
DTSTART:20261101T080000
END:STANDARD
END:VTIMEZONE
BEGIN:VEVENT
DTSTART;TZID=America/Denver:20250628T100000
DTEND;TZID=America/Denver:20250628T140000
DTSTAMP:20260422T082513
CREATED:20230613T192032Z
LAST-MODIFIED:20250309T151108Z
UID:10000107-1751104800-1751119200@www.spacehalloffame.org
SUMMARY:Big Bang STEM Expo
DESCRIPTION:Supporting the New Mexico Museum of Space History
URL:https://www.spacehalloffame.org/event/big-bang-festival/
LOCATION:Tay’s Special Event Center\, 2400 N. Scenic Drive\, Alamogordo\, NM\, 88310\, United States
CATEGORIES:Big Bang Festival,Special Events
ATTACH;FMTTYPE=image/png:https://www.spacehalloffame.org/files/wp-content/uploads/BigBangLogoISHFF-1.png
END:VEVENT
END:VCALENDAR