BEGIN:VCALENDAR
VERSION:2.0
PRODID:-//International Space Hall of Fame Foundation - ECPv6.15.20//NONSGML v1.0//EN
CALSCALE:GREGORIAN
METHOD:PUBLISH
X-WR-CALNAME:International Space Hall of Fame Foundation
X-ORIGINAL-URL:https://www.spacehalloffame.org
X-WR-CALDESC:Events for International Space Hall of Fame Foundation
REFRESH-INTERVAL;VALUE=DURATION:PT1H
X-Robots-Tag:noindex
X-PUBLISHED-TTL:PT1H
BEGIN:VTIMEZONE
TZID:America/Denver
BEGIN:DAYLIGHT
TZOFFSETFROM:-0700
TZOFFSETTO:-0600
TZNAME:MDT
DTSTART:20250309T090000
END:DAYLIGHT
BEGIN:STANDARD
TZOFFSETFROM:-0600
TZOFFSETTO:-0700
TZNAME:MST
DTSTART:20251102T080000
END:STANDARD
BEGIN:DAYLIGHT
TZOFFSETFROM:-0700
TZOFFSETTO:-0600
TZNAME:MDT
DTSTART:20260308T090000
END:DAYLIGHT
BEGIN:STANDARD
TZOFFSETFROM:-0600
TZOFFSETTO:-0700
TZNAME:MST
DTSTART:20261101T080000
END:STANDARD
BEGIN:DAYLIGHT
TZOFFSETFROM:-0700
TZOFFSETTO:-0600
TZNAME:MDT
DTSTART:20270314T090000
END:DAYLIGHT
BEGIN:STANDARD
TZOFFSETFROM:-0600
TZOFFSETTO:-0700
TZNAME:MST
DTSTART:20271107T080000
END:STANDARD
BEGIN:DAYLIGHT
TZOFFSETFROM:-0700
TZOFFSETTO:-0600
TZNAME:MDT
DTSTART:20280312T090000
END:DAYLIGHT
BEGIN:STANDARD
TZOFFSETFROM:-0600
TZOFFSETTO:-0700
TZNAME:MST
DTSTART:20281105T080000
END:STANDARD
BEGIN:DAYLIGHT
TZOFFSETFROM:-0700
TZOFFSETTO:-0600
TZNAME:MDT
DTSTART:20290311T090000
END:DAYLIGHT
BEGIN:STANDARD
TZOFFSETFROM:-0600
TZOFFSETTO:-0700
TZNAME:MST
DTSTART:20291104T080000
END:STANDARD
BEGIN:DAYLIGHT
TZOFFSETFROM:-0700
TZOFFSETTO:-0600
TZNAME:MDT
DTSTART:20300310T090000
END:DAYLIGHT
BEGIN:STANDARD
TZOFFSETFROM:-0600
TZOFFSETTO:-0700
TZNAME:MST
DTSTART:20301103T080000
END:STANDARD
END:VTIMEZONE
BEGIN:VEVENT
DTSTART;TZID=America/Denver:20261128T090000
DTEND;TZID=America/Denver:20261128T100000
DTSTAMP:20260425T055133
CREATED:20260413T144346Z
LAST-MODIFIED:20260413T145143Z
UID:10000249-1795856400-1795860000@www.spacehalloffame.org
SUMMARY:Science Saturday
DESCRIPTION:
URL:https://www.spacehalloffame.org/event/science-saturday/2026-11-28/
LOCATION:New Mexico Museum of Space History\, 3198 State Route 2001\, Alamogordo\, NM\, 88310\, United States
ATTACH;FMTTYPE=image/jpeg:https://www.spacehalloffame.org/files/wp-content/uploads/maxfaget_maxmobile01-lg-002.jpg
END:VEVENT
BEGIN:VEVENT
DTSTART;TZID=America/Denver:20261226T090000
DTEND;TZID=America/Denver:20261226T100000
DTSTAMP:20260425T055133
CREATED:20260413T144346Z
LAST-MODIFIED:20260413T145143Z
UID:10000250-1798275600-1798279200@www.spacehalloffame.org
SUMMARY:Science Saturday
DESCRIPTION:
URL:https://www.spacehalloffame.org/event/science-saturday/2026-12-26/
LOCATION:New Mexico Museum of Space History\, 3198 State Route 2001\, Alamogordo\, NM\, 88310\, United States
ATTACH;FMTTYPE=image/jpeg:https://www.spacehalloffame.org/files/wp-content/uploads/maxfaget_maxmobile01-lg-002.jpg
END:VEVENT
BEGIN:VEVENT
DTSTART;TZID=America/Denver:20270130T090000
DTEND;TZID=America/Denver:20270130T100000
DTSTAMP:20260425T055133
CREATED:20260413T144346Z
LAST-MODIFIED:20260413T145143Z
UID:10000251-1801299600-1801303200@www.spacehalloffame.org
SUMMARY:Science Saturday
DESCRIPTION:
URL:https://www.spacehalloffame.org/event/science-saturday/2027-01-30/
LOCATION:New Mexico Museum of Space History\, 3198 State Route 2001\, Alamogordo\, NM\, 88310\, United States
ATTACH;FMTTYPE=image/jpeg:https://www.spacehalloffame.org/files/wp-content/uploads/maxfaget_maxmobile01-lg-002.jpg
END:VEVENT
BEGIN:VEVENT
DTSTART;TZID=America/Denver:20270227T090000
DTEND;TZID=America/Denver:20270227T100000
DTSTAMP:20260425T055133
CREATED:20260413T144346Z
LAST-MODIFIED:20260413T145143Z
UID:10000252-1803718800-1803722400@www.spacehalloffame.org
SUMMARY:Science Saturday
DESCRIPTION:
URL:https://www.spacehalloffame.org/event/science-saturday/2027-02-27/
LOCATION:New Mexico Museum of Space History\, 3198 State Route 2001\, Alamogordo\, NM\, 88310\, United States
ATTACH;FMTTYPE=image/jpeg:https://www.spacehalloffame.org/files/wp-content/uploads/maxfaget_maxmobile01-lg-002.jpg
END:VEVENT
BEGIN:VEVENT
DTSTART;TZID=America/Denver:20270327T090000
DTEND;TZID=America/Denver:20270327T100000
DTSTAMP:20260425T055133
CREATED:20260413T144346Z
LAST-MODIFIED:20260413T145143Z
UID:10000253-1806138000-1806141600@www.spacehalloffame.org
SUMMARY:Science Saturday
DESCRIPTION:
URL:https://www.spacehalloffame.org/event/science-saturday/2027-03-27/
LOCATION:New Mexico Museum of Space History\, 3198 State Route 2001\, Alamogordo\, NM\, 88310\, United States
ATTACH;FMTTYPE=image/jpeg:https://www.spacehalloffame.org/files/wp-content/uploads/maxfaget_maxmobile01-lg-002.jpg
END:VEVENT
BEGIN:VEVENT
DTSTART;TZID=America/Denver:20270424T090000
DTEND;TZID=America/Denver:20270424T100000
DTSTAMP:20260425T055133
CREATED:20260413T144346Z
LAST-MODIFIED:20260413T145143Z
UID:10000254-1808557200-1808560800@www.spacehalloffame.org
SUMMARY:Science Saturday
DESCRIPTION:
URL:https://www.spacehalloffame.org/event/science-saturday/2027-04-24/
LOCATION:New Mexico Museum of Space History\, 3198 State Route 2001\, Alamogordo\, NM\, 88310\, United States
ATTACH;FMTTYPE=image/jpeg:https://www.spacehalloffame.org/files/wp-content/uploads/maxfaget_maxmobile01-lg-002.jpg
END:VEVENT
BEGIN:VEVENT
DTSTART;TZID=America/Denver:20270529T090000
DTEND;TZID=America/Denver:20270529T100000
DTSTAMP:20260425T055133
CREATED:20260413T144346Z
LAST-MODIFIED:20260413T145143Z
UID:10000255-1811581200-1811584800@www.spacehalloffame.org
SUMMARY:Science Saturday
DESCRIPTION:
URL:https://www.spacehalloffame.org/event/science-saturday/2027-05-29/
LOCATION:New Mexico Museum of Space History\, 3198 State Route 2001\, Alamogordo\, NM\, 88310\, United States
ATTACH;FMTTYPE=image/jpeg:https://www.spacehalloffame.org/files/wp-content/uploads/maxfaget_maxmobile01-lg-002.jpg
END:VEVENT
BEGIN:VEVENT
DTSTART;TZID=America/Denver:20270626T090000
DTEND;TZID=America/Denver:20270626T100000
DTSTAMP:20260425T055133
CREATED:20260413T144346Z
LAST-MODIFIED:20260413T145143Z
UID:10000256-1814000400-1814004000@www.spacehalloffame.org
SUMMARY:Science Saturday
DESCRIPTION:
URL:https://www.spacehalloffame.org/event/science-saturday/2027-06-26/
LOCATION:New Mexico Museum of Space History\, 3198 State Route 2001\, Alamogordo\, NM\, 88310\, United States
ATTACH;FMTTYPE=image/jpeg:https://www.spacehalloffame.org/files/wp-content/uploads/maxfaget_maxmobile01-lg-002.jpg
END:VEVENT
BEGIN:VEVENT
DTSTART;TZID=America/Denver:20270704T180000
DTEND;TZID=America/Denver:20270704T220000
DTSTAMP:20260425T055133
CREATED:20220528T003446Z
LAST-MODIFIED:20230613T190058Z
UID:10000106-1814724000-1814738400@www.spacehalloffame.org
SUMMARY:July 4th Extravaganza Drive In
DESCRIPTION:Supporting the New Mexico Museum of Space History
URL:https://www.spacehalloffame.org/event/july-4th-extravaganza-drive-in/2027-07-04/
LOCATION:New Mexico Museum of Space History\, 3198 State Route 2001\, Alamogordo\, NM\, 88310\, United States
CATEGORIES:July 4th Drive In,Special Events
ATTACH;FMTTYPE=image/jpeg:https://www.spacehalloffame.org/files/wp-content/uploads/cropped-MG_9441bw.jpg
END:VEVENT
BEGIN:VEVENT
DTSTART;TZID=America/Denver:20270731T090000
DTEND;TZID=America/Denver:20270731T100000
DTSTAMP:20260425T055133
CREATED:20260413T144346Z
LAST-MODIFIED:20260413T145143Z
UID:10000257-1817024400-1817028000@www.spacehalloffame.org
SUMMARY:Science Saturday
DESCRIPTION:
URL:https://www.spacehalloffame.org/event/science-saturday/2027-07-31/
LOCATION:New Mexico Museum of Space History\, 3198 State Route 2001\, Alamogordo\, NM\, 88310\, United States
ATTACH;FMTTYPE=image/jpeg:https://www.spacehalloffame.org/files/wp-content/uploads/maxfaget_maxmobile01-lg-002.jpg
END:VEVENT
BEGIN:VEVENT
DTSTART;TZID=America/Denver:20270828T090000
DTEND;TZID=America/Denver:20270828T100000
DTSTAMP:20260425T055133
CREATED:20260413T144346Z
LAST-MODIFIED:20260413T145143Z
UID:10000258-1819443600-1819447200@www.spacehalloffame.org
SUMMARY:Science Saturday
DESCRIPTION:
URL:https://www.spacehalloffame.org/event/science-saturday/2027-08-28/
LOCATION:New Mexico Museum of Space History\, 3198 State Route 2001\, Alamogordo\, NM\, 88310\, United States
ATTACH;FMTTYPE=image/jpeg:https://www.spacehalloffame.org/files/wp-content/uploads/maxfaget_maxmobile01-lg-002.jpg
END:VEVENT
BEGIN:VEVENT
DTSTART;TZID=America/Denver:20270925T090000
DTEND;TZID=America/Denver:20270925T100000
DTSTAMP:20260425T055133
CREATED:20260413T144346Z
LAST-MODIFIED:20260413T145143Z
UID:10000259-1821862800-1821866400@www.spacehalloffame.org
SUMMARY:Science Saturday
DESCRIPTION:
URL:https://www.spacehalloffame.org/event/science-saturday/2027-09-25/
LOCATION:New Mexico Museum of Space History\, 3198 State Route 2001\, Alamogordo\, NM\, 88310\, United States
ATTACH;FMTTYPE=image/jpeg:https://www.spacehalloffame.org/files/wp-content/uploads/maxfaget_maxmobile01-lg-002.jpg
END:VEVENT
BEGIN:VEVENT
DTSTART;TZID=America/Denver:20271016T060000
DTEND;TZID=America/Denver:20271016T160000
DTSTAMP:20260425T055133
CREATED:20211107T000142Z
LAST-MODIFIED:20240315T173853Z
UID:10000158-1823666400-1823702400@www.spacehalloffame.org
SUMMARY:Trinity Site Fall Motor Coach Tour
DESCRIPTION:Trinity Site Obelisk \n\n\n\n\n\n\n\nInternational Space Hall of Fame Foundation Fundraising Event to Support the New Mexico Museum of Space History
URL:https://www.spacehalloffame.org/event/trinity-site-motor-coach-tour-2023-10-14-2023-10-21/2027-10-16/
LOCATION:New Mexico Museum of Space History\, 3198 State Route 2001\, Alamogordo\, NM\, 88310\, United States
CATEGORIES:Trinity Site Motor Coach Tour
ATTACH;FMTTYPE=image/jpeg:https://www.spacehalloffame.org/files/wp-content/uploads/Trinity-monument-courtesy-LANL.jpg
END:VEVENT
BEGIN:VEVENT
DTSTART;TZID=America/Denver:20271030T090000
DTEND;TZID=America/Denver:20271030T100000
DTSTAMP:20260425T055133
CREATED:20260413T144346Z
LAST-MODIFIED:20260413T145143Z
UID:10000260-1824886800-1824890400@www.spacehalloffame.org
SUMMARY:Science Saturday
DESCRIPTION:
URL:https://www.spacehalloffame.org/event/science-saturday/2027-10-30/
LOCATION:New Mexico Museum of Space History\, 3198 State Route 2001\, Alamogordo\, NM\, 88310\, United States
ATTACH;FMTTYPE=image/jpeg:https://www.spacehalloffame.org/files/wp-content/uploads/maxfaget_maxmobile01-lg-002.jpg
END:VEVENT
BEGIN:VEVENT
DTSTART;TZID=America/Denver:20271127T090000
DTEND;TZID=America/Denver:20271127T100000
DTSTAMP:20260425T055133
CREATED:20260413T144346Z
LAST-MODIFIED:20260413T145143Z
UID:10000261-1827306000-1827309600@www.spacehalloffame.org
SUMMARY:Science Saturday
DESCRIPTION:
URL:https://www.spacehalloffame.org/event/science-saturday/2027-11-27/
LOCATION:New Mexico Museum of Space History\, 3198 State Route 2001\, Alamogordo\, NM\, 88310\, United States
ATTACH;FMTTYPE=image/jpeg:https://www.spacehalloffame.org/files/wp-content/uploads/maxfaget_maxmobile01-lg-002.jpg
END:VEVENT
BEGIN:VEVENT
DTSTART;TZID=America/Denver:20271225T090000
DTEND;TZID=America/Denver:20271225T100000
DTSTAMP:20260425T055133
CREATED:20260413T144346Z
LAST-MODIFIED:20260413T145143Z
UID:10000262-1829725200-1829728800@www.spacehalloffame.org
SUMMARY:Science Saturday
DESCRIPTION:
URL:https://www.spacehalloffame.org/event/science-saturday/2027-12-25/
LOCATION:New Mexico Museum of Space History\, 3198 State Route 2001\, Alamogordo\, NM\, 88310\, United States
ATTACH;FMTTYPE=image/jpeg:https://www.spacehalloffame.org/files/wp-content/uploads/maxfaget_maxmobile01-lg-002.jpg
END:VEVENT
BEGIN:VEVENT
DTSTART;TZID=America/Denver:20280129T090000
DTEND;TZID=America/Denver:20280129T100000
DTSTAMP:20260425T055133
CREATED:20260413T144346Z
LAST-MODIFIED:20260413T145143Z
UID:10000263-1832749200-1832752800@www.spacehalloffame.org
SUMMARY:Science Saturday
DESCRIPTION:
URL:https://www.spacehalloffame.org/event/science-saturday/2028-01-29/
LOCATION:New Mexico Museum of Space History\, 3198 State Route 2001\, Alamogordo\, NM\, 88310\, United States
ATTACH;FMTTYPE=image/jpeg:https://www.spacehalloffame.org/files/wp-content/uploads/maxfaget_maxmobile01-lg-002.jpg
END:VEVENT
BEGIN:VEVENT
DTSTART;TZID=America/Denver:20280226T090000
DTEND;TZID=America/Denver:20280226T100000
DTSTAMP:20260425T055133
CREATED:20260413T144346Z
LAST-MODIFIED:20260413T145143Z
UID:10000264-1835168400-1835172000@www.spacehalloffame.org
SUMMARY:Science Saturday
DESCRIPTION:
URL:https://www.spacehalloffame.org/event/science-saturday/2028-02-26/
LOCATION:New Mexico Museum of Space History\, 3198 State Route 2001\, Alamogordo\, NM\, 88310\, United States
ATTACH;FMTTYPE=image/jpeg:https://www.spacehalloffame.org/files/wp-content/uploads/maxfaget_maxmobile01-lg-002.jpg
END:VEVENT
BEGIN:VEVENT
DTSTART;TZID=America/Denver:20280325T090000
DTEND;TZID=America/Denver:20280325T100000
DTSTAMP:20260425T055133
CREATED:20260413T144346Z
LAST-MODIFIED:20260413T145143Z
UID:10000265-1837587600-1837591200@www.spacehalloffame.org
SUMMARY:Science Saturday
DESCRIPTION:
URL:https://www.spacehalloffame.org/event/science-saturday/2028-03-25/
LOCATION:New Mexico Museum of Space History\, 3198 State Route 2001\, Alamogordo\, NM\, 88310\, United States
ATTACH;FMTTYPE=image/jpeg:https://www.spacehalloffame.org/files/wp-content/uploads/maxfaget_maxmobile01-lg-002.jpg
END:VEVENT
BEGIN:VEVENT
DTSTART;TZID=America/Denver:20280429T090000
DTEND;TZID=America/Denver:20280429T100000
DTSTAMP:20260425T055133
CREATED:20260413T144346Z
LAST-MODIFIED:20260413T145143Z
UID:10000266-1840611600-1840615200@www.spacehalloffame.org
SUMMARY:Science Saturday
DESCRIPTION:
URL:https://www.spacehalloffame.org/event/science-saturday/2028-04-29/
LOCATION:New Mexico Museum of Space History\, 3198 State Route 2001\, Alamogordo\, NM\, 88310\, United States
ATTACH;FMTTYPE=image/jpeg:https://www.spacehalloffame.org/files/wp-content/uploads/maxfaget_maxmobile01-lg-002.jpg
END:VEVENT
BEGIN:VEVENT
DTSTART;TZID=America/Denver:20280527T090000
DTEND;TZID=America/Denver:20280527T100000
DTSTAMP:20260425T055133
CREATED:20260413T144346Z
LAST-MODIFIED:20260413T145143Z
UID:10000267-1843030800-1843034400@www.spacehalloffame.org
SUMMARY:Science Saturday
DESCRIPTION:
URL:https://www.spacehalloffame.org/event/science-saturday/2028-05-27/
LOCATION:New Mexico Museum of Space History\, 3198 State Route 2001\, Alamogordo\, NM\, 88310\, United States
ATTACH;FMTTYPE=image/jpeg:https://www.spacehalloffame.org/files/wp-content/uploads/maxfaget_maxmobile01-lg-002.jpg
END:VEVENT
BEGIN:VEVENT
DTSTART;TZID=America/Denver:20280624T090000
DTEND;TZID=America/Denver:20280624T100000
DTSTAMP:20260425T055133
CREATED:20260413T144346Z
LAST-MODIFIED:20260413T145143Z
UID:10000268-1845450000-1845453600@www.spacehalloffame.org
SUMMARY:Science Saturday
DESCRIPTION:
URL:https://www.spacehalloffame.org/event/science-saturday/2028-06-24/
LOCATION:New Mexico Museum of Space History\, 3198 State Route 2001\, Alamogordo\, NM\, 88310\, United States
ATTACH;FMTTYPE=image/jpeg:https://www.spacehalloffame.org/files/wp-content/uploads/maxfaget_maxmobile01-lg-002.jpg
END:VEVENT
BEGIN:VEVENT
DTSTART;TZID=America/Denver:20280729T090000
DTEND;TZID=America/Denver:20280729T100000
DTSTAMP:20260425T055133
CREATED:20260413T144346Z
LAST-MODIFIED:20260413T145143Z
UID:10000269-1848474000-1848477600@www.spacehalloffame.org
SUMMARY:Science Saturday
DESCRIPTION:
URL:https://www.spacehalloffame.org/event/science-saturday/2028-07-29/
LOCATION:New Mexico Museum of Space History\, 3198 State Route 2001\, Alamogordo\, NM\, 88310\, United States
ATTACH;FMTTYPE=image/jpeg:https://www.spacehalloffame.org/files/wp-content/uploads/maxfaget_maxmobile01-lg-002.jpg
END:VEVENT
BEGIN:VEVENT
DTSTART;TZID=America/Denver:20280826T090000
DTEND;TZID=America/Denver:20280826T100000
DTSTAMP:20260425T055133
CREATED:20260413T144346Z
LAST-MODIFIED:20260413T145143Z
UID:10000270-1850893200-1850896800@www.spacehalloffame.org
SUMMARY:Science Saturday
DESCRIPTION:
URL:https://www.spacehalloffame.org/event/science-saturday/2028-08-26/
LOCATION:New Mexico Museum of Space History\, 3198 State Route 2001\, Alamogordo\, NM\, 88310\, United States
ATTACH;FMTTYPE=image/jpeg:https://www.spacehalloffame.org/files/wp-content/uploads/maxfaget_maxmobile01-lg-002.jpg
END:VEVENT
BEGIN:VEVENT
DTSTART;TZID=America/Denver:20280930T090000
DTEND;TZID=America/Denver:20280930T100000
DTSTAMP:20260425T055133
CREATED:20260413T144346Z
LAST-MODIFIED:20260413T145143Z
UID:10000271-1853917200-1853920800@www.spacehalloffame.org
SUMMARY:Science Saturday
DESCRIPTION:
URL:https://www.spacehalloffame.org/event/science-saturday/2028-09-30/
LOCATION:New Mexico Museum of Space History\, 3198 State Route 2001\, Alamogordo\, NM\, 88310\, United States
ATTACH;FMTTYPE=image/jpeg:https://www.spacehalloffame.org/files/wp-content/uploads/maxfaget_maxmobile01-lg-002.jpg
END:VEVENT
BEGIN:VEVENT
DTSTART;TZID=America/Denver:20281021T060000
DTEND;TZID=America/Denver:20281021T160000
DTSTAMP:20260425T055133
CREATED:20211107T000142Z
LAST-MODIFIED:20240315T173853Z
UID:10000159-1855720800-1855756800@www.spacehalloffame.org
SUMMARY:Trinity Site Fall Motor Coach Tour
DESCRIPTION:Trinity Site Obelisk \n\n\n\n\n\n\n\nInternational Space Hall of Fame Foundation Fundraising Event to Support the New Mexico Museum of Space History
URL:https://www.spacehalloffame.org/event/trinity-site-motor-coach-tour-2023-10-14-2023-10-21/2028-10-21/
LOCATION:New Mexico Museum of Space History\, 3198 State Route 2001\, Alamogordo\, NM\, 88310\, United States
CATEGORIES:Trinity Site Motor Coach Tour
ATTACH;FMTTYPE=image/jpeg:https://www.spacehalloffame.org/files/wp-content/uploads/Trinity-monument-courtesy-LANL.jpg
END:VEVENT
BEGIN:VEVENT
DTSTART;TZID=America/Denver:20281028T090000
DTEND;TZID=America/Denver:20281028T100000
DTSTAMP:20260425T055133
CREATED:20260413T144346Z
LAST-MODIFIED:20260413T145143Z
UID:10000272-1856336400-1856340000@www.spacehalloffame.org
SUMMARY:Science Saturday
DESCRIPTION:
URL:https://www.spacehalloffame.org/event/science-saturday/2028-10-28/
LOCATION:New Mexico Museum of Space History\, 3198 State Route 2001\, Alamogordo\, NM\, 88310\, United States
ATTACH;FMTTYPE=image/jpeg:https://www.spacehalloffame.org/files/wp-content/uploads/maxfaget_maxmobile01-lg-002.jpg
END:VEVENT
BEGIN:VEVENT
DTSTART;TZID=America/Denver:20281125T090000
DTEND;TZID=America/Denver:20281125T100000
DTSTAMP:20260425T055133
CREATED:20260413T144346Z
LAST-MODIFIED:20260413T145143Z
UID:10000273-1858755600-1858759200@www.spacehalloffame.org
SUMMARY:Science Saturday
DESCRIPTION:
URL:https://www.spacehalloffame.org/event/science-saturday/2028-11-25/
LOCATION:New Mexico Museum of Space History\, 3198 State Route 2001\, Alamogordo\, NM\, 88310\, United States
ATTACH;FMTTYPE=image/jpeg:https://www.spacehalloffame.org/files/wp-content/uploads/maxfaget_maxmobile01-lg-002.jpg
END:VEVENT
BEGIN:VEVENT
DTSTART;TZID=America/Denver:20281230T090000
DTEND;TZID=America/Denver:20281230T100000
DTSTAMP:20260425T055133
CREATED:20260413T144346Z
LAST-MODIFIED:20260413T145143Z
UID:10000274-1861779600-1861783200@www.spacehalloffame.org
SUMMARY:Science Saturday
DESCRIPTION:
URL:https://www.spacehalloffame.org/event/science-saturday/2028-12-30/
LOCATION:New Mexico Museum of Space History\, 3198 State Route 2001\, Alamogordo\, NM\, 88310\, United States
ATTACH;FMTTYPE=image/jpeg:https://www.spacehalloffame.org/files/wp-content/uploads/maxfaget_maxmobile01-lg-002.jpg
END:VEVENT
BEGIN:VEVENT
DTSTART;TZID=America/Denver:20290127T090000
DTEND;TZID=America/Denver:20290127T100000
DTSTAMP:20260425T055133
CREATED:20260413T144346Z
LAST-MODIFIED:20260413T145143Z
UID:10000275-1864198800-1864202400@www.spacehalloffame.org
SUMMARY:Science Saturday
DESCRIPTION:
URL:https://www.spacehalloffame.org/event/science-saturday/2029-01-27/
LOCATION:New Mexico Museum of Space History\, 3198 State Route 2001\, Alamogordo\, NM\, 88310\, United States
ATTACH;FMTTYPE=image/jpeg:https://www.spacehalloffame.org/files/wp-content/uploads/maxfaget_maxmobile01-lg-002.jpg
END:VEVENT
END:VCALENDAR