BEGIN:VCALENDAR
VERSION:2.0
PRODID:-//International Space Hall of Fame Foundation - ECPv6.15.20//NONSGML v1.0//EN
CALSCALE:GREGORIAN
METHOD:PUBLISH
X-WR-CALNAME:International Space Hall of Fame Foundation
X-ORIGINAL-URL:https://www.spacehalloffame.org
X-WR-CALDESC:Events for International Space Hall of Fame Foundation
REFRESH-INTERVAL;VALUE=DURATION:PT1H
X-Robots-Tag:noindex
X-PUBLISHED-TTL:PT1H
BEGIN:VTIMEZONE
TZID:America/Denver
BEGIN:DAYLIGHT
TZOFFSETFROM:-0700
TZOFFSETTO:-0600
TZNAME:MDT
DTSTART:20200308T090000
END:DAYLIGHT
BEGIN:STANDARD
TZOFFSETFROM:-0600
TZOFFSETTO:-0700
TZNAME:MST
DTSTART:20201101T080000
END:STANDARD
BEGIN:DAYLIGHT
TZOFFSETFROM:-0700
TZOFFSETTO:-0600
TZNAME:MDT
DTSTART:20210314T090000
END:DAYLIGHT
BEGIN:STANDARD
TZOFFSETFROM:-0600
TZOFFSETTO:-0700
TZNAME:MST
DTSTART:20211107T080000
END:STANDARD
BEGIN:DAYLIGHT
TZOFFSETFROM:-0700
TZOFFSETTO:-0600
TZNAME:MDT
DTSTART:20220313T090000
END:DAYLIGHT
BEGIN:STANDARD
TZOFFSETFROM:-0600
TZOFFSETTO:-0700
TZNAME:MST
DTSTART:20221106T080000
END:STANDARD
BEGIN:DAYLIGHT
TZOFFSETFROM:-0700
TZOFFSETTO:-0600
TZNAME:MDT
DTSTART:20230312T090000
END:DAYLIGHT
BEGIN:STANDARD
TZOFFSETFROM:-0600
TZOFFSETTO:-0700
TZNAME:MST
DTSTART:20231105T080000
END:STANDARD
BEGIN:DAYLIGHT
TZOFFSETFROM:-0700
TZOFFSETTO:-0600
TZNAME:MDT
DTSTART:20240310T090000
END:DAYLIGHT
BEGIN:STANDARD
TZOFFSETFROM:-0600
TZOFFSETTO:-0700
TZNAME:MST
DTSTART:20241103T080000
END:STANDARD
BEGIN:DAYLIGHT
TZOFFSETFROM:-0700
TZOFFSETTO:-0600
TZNAME:MDT
DTSTART:20250309T090000
END:DAYLIGHT
BEGIN:STANDARD
TZOFFSETFROM:-0600
TZOFFSETTO:-0700
TZNAME:MST
DTSTART:20251102T080000
END:STANDARD
BEGIN:DAYLIGHT
TZOFFSETFROM:-0700
TZOFFSETTO:-0600
TZNAME:MDT
DTSTART:20260308T090000
END:DAYLIGHT
BEGIN:STANDARD
TZOFFSETFROM:-0600
TZOFFSETTO:-0700
TZNAME:MST
DTSTART:20261101T080000
END:STANDARD
BEGIN:DAYLIGHT
TZOFFSETFROM:-0700
TZOFFSETTO:-0600
TZNAME:MDT
DTSTART:20270314T090000
END:DAYLIGHT
BEGIN:STANDARD
TZOFFSETFROM:-0600
TZOFFSETTO:-0700
TZNAME:MST
DTSTART:20271107T080000
END:STANDARD
END:VTIMEZONE
BEGIN:VEVENT
DTSTART;TZID=America/Denver:20260212T170000
DTEND;TZID=America/Denver:20260212T203000
DTSTAMP:20260425T055133
CREATED:20260210T135709Z
LAST-MODIFIED:20260210T140733Z
UID:10000241-1770915600-1770928200@www.spacehalloffame.org
SUMMARY:Rockets and Rosé
DESCRIPTION:
URL:https://www.spacehalloffame.org/event/rockets-and-rose/
LOCATION:New Mexico Museum of Space History\, 3198 State Route 2001\, Alamogordo\, NM\, 88310\, United States
CATEGORIES:Special Events
ATTACH;FMTTYPE=image/jpeg:https://www.spacehalloffame.org/files/wp-content/uploads/FB_Event_Rockets-n-Rose_generic.jpg
END:VEVENT
BEGIN:VEVENT
DTSTART;TZID=America/Denver:20251018T060000
DTEND;TZID=America/Denver:20251018T160000
DTSTAMP:20260425T055133
CREATED:20211107T000142Z
LAST-MODIFIED:20240315T173853Z
UID:10000156-1760767200-1760803200@www.spacehalloffame.org
SUMMARY:Trinity Site Fall Motor Coach Tour
DESCRIPTION:Trinity Site Obelisk \n\n\n\n\n\n\n\nInternational Space Hall of Fame Foundation Fundraising Event to Support the New Mexico Museum of Space History
URL:https://www.spacehalloffame.org/event/trinity-site-motor-coach-tour-2023-10-14-2023-10-21/2025-10-18/
LOCATION:New Mexico Museum of Space History\, 3198 State Route 2001\, Alamogordo\, NM\, 88310\, United States
CATEGORIES:Trinity Site Motor Coach Tour
ATTACH;FMTTYPE=image/jpeg:https://www.spacehalloffame.org/files/wp-content/uploads/Trinity-monument-courtesy-LANL.jpg
END:VEVENT
BEGIN:VEVENT
DTSTART;TZID=America/Denver:20250721T080000
DTEND;TZID=America/Denver:20250725T170000
DTSTAMP:20260425T055133
CREATED:20250618T014121Z
LAST-MODIFIED:20250618T014122Z
UID:10000174-1753084800-1753462800@www.spacehalloffame.org
SUMMARY:Rocketeer Academy Week 3
DESCRIPTION:
URL:https://www.spacehalloffame.org/event/rocketeer-academy-week-3/
LOCATION:New Mexico Museum of Space History\, 3198 State Route 2001\, Alamogordo\, NM\, 88310\, United States
END:VEVENT
BEGIN:VEVENT
DTSTART;TZID=America/Denver:20250714T080000
DTEND;TZID=America/Denver:20250718T120000
DTSTAMP:20260425T055133
CREATED:20250618T014005Z
LAST-MODIFIED:20250618T014007Z
UID:10000173-1752480000-1752840000@www.spacehalloffame.org
SUMMARY:Rocketeer Academy Week 2
DESCRIPTION:
URL:https://www.spacehalloffame.org/event/rocketeer-academy-week-2/
LOCATION:New Mexico Museum of Space History\, 3198 State Route 2001\, Alamogordo\, NM\, 88310\, United States
END:VEVENT
BEGIN:VEVENT
DTSTART;TZID=America/Denver:20250707T080000
DTEND;TZID=America/Denver:20250711T120000
DTSTAMP:20260425T055133
CREATED:20250618T013721Z
LAST-MODIFIED:20250729T003041Z
UID:10000172-1751875200-1752235200@www.spacehalloffame.org
SUMMARY:Rocketeer Academy Week 1
DESCRIPTION:
URL:https://www.spacehalloffame.org/event/rocketeer-academy-week-1/
LOCATION:New Mexico Museum of Space History\, 3198 State Route 2001\, Alamogordo\, NM\, 88310\, United States
ATTACH;FMTTYPE=image/png:https://www.spacehalloffame.org/files/wp-content/uploads/Spaceport-Camp-Pic.png
END:VEVENT
BEGIN:VEVENT
DTSTART;TZID=America/Denver:20250704T180000
DTEND;TZID=America/Denver:20250704T220000
DTSTAMP:20260425T055133
CREATED:20220528T003446Z
LAST-MODIFIED:20230613T190058Z
UID:10000104-1751652000-1751666400@www.spacehalloffame.org
SUMMARY:July 4th Extravaganza Drive In
DESCRIPTION:Supporting the New Mexico Museum of Space History
URL:https://www.spacehalloffame.org/event/july-4th-extravaganza-drive-in/2025-07-04/
LOCATION:New Mexico Museum of Space History\, 3198 State Route 2001\, Alamogordo\, NM\, 88310\, United States
CATEGORIES:July 4th Drive In,Special Events
ATTACH;FMTTYPE=image/jpeg:https://www.spacehalloffame.org/files/wp-content/uploads/cropped-MG_9441bw.jpg
END:VEVENT
BEGIN:VEVENT
DTSTART;TZID=America/Denver:20241225T000000
DTEND;TZID=America/Denver:20241225T235959
DTSTAMP:20260425T055133
CREATED:20211122T121304Z
LAST-MODIFIED:20211122T121305Z
UID:10000090-1735084800-1735171199@www.spacehalloffame.org
SUMMARY:Closed Christmas Day
DESCRIPTION:
URL:https://www.spacehalloffame.org/event/closed-christmas-day/2024-12-25/
LOCATION:New Mexico Museum of Space History\, 3198 State Route 2001\, Alamogordo\, NM\, 88310\, United States
END:VEVENT
BEGIN:VEVENT
DTSTART;TZID=America/Denver:20241128T000000
DTEND;TZID=America/Denver:20241128T235959
DTSTAMP:20260425T055133
CREATED:20211122T121138Z
LAST-MODIFIED:20211122T121139Z
UID:10000005-1732752000-1732838399@www.spacehalloffame.org
SUMMARY:Closed Thanksgiving Day
DESCRIPTION:
URL:https://www.spacehalloffame.org/event/closed-thanksgiving-day/2024-11-28/
LOCATION:New Mexico Museum of Space History\, 3198 State Route 2001\, Alamogordo\, NM\, 88310\, United States
END:VEVENT
BEGIN:VEVENT
DTSTART;TZID=America/Denver:20241019T060000
DTEND;TZID=America/Denver:20241019T160000
DTSTAMP:20260425T055133
CREATED:20211107T000142Z
LAST-MODIFIED:20240315T173853Z
UID:10000093-1729317600-1729353600@www.spacehalloffame.org
SUMMARY:Trinity Site Fall Motor Coach Tour
DESCRIPTION:Trinity Site Obelisk \n\n\n\n\n\n\n\nInternational Space Hall of Fame Foundation Fundraising Event to Support the New Mexico Museum of Space History
URL:https://www.spacehalloffame.org/event/trinity-site-motor-coach-tour-2023-10-14-2023-10-21/2024-10-19/
LOCATION:New Mexico Museum of Space History\, 3198 State Route 2001\, Alamogordo\, NM\, 88310\, United States
CATEGORIES:Trinity Site Motor Coach Tour
ATTACH;FMTTYPE=image/jpeg:https://www.spacehalloffame.org/files/wp-content/uploads/Trinity-monument-courtesy-LANL.jpg
END:VEVENT
BEGIN:VEVENT
DTSTART;TZID=America/Denver:20240704T180000
DTEND;TZID=America/Denver:20240704T220000
DTSTAMP:20260425T055133
CREATED:20220528T003446Z
LAST-MODIFIED:20230613T190058Z
UID:10000103-1720116000-1720130400@www.spacehalloffame.org
SUMMARY:July 4th Extravaganza Drive In
DESCRIPTION:Supporting the New Mexico Museum of Space History
URL:https://www.spacehalloffame.org/event/july-4th-extravaganza-drive-in/2024-07-04/
LOCATION:New Mexico Museum of Space History\, 3198 State Route 2001\, Alamogordo\, NM\, 88310\, United States
CATEGORIES:July 4th Drive In,Special Events
ATTACH;FMTTYPE=image/jpeg:https://www.spacehalloffame.org/files/wp-content/uploads/cropped-MG_9441bw.jpg
END:VEVENT
BEGIN:VEVENT
DTSTART;TZID=America/Denver:20231225T000000
DTEND;TZID=America/Denver:20231225T235959
DTSTAMP:20260425T055133
CREATED:20211122T121304Z
LAST-MODIFIED:20211122T121305Z
UID:10000089-1703462400-1703548799@www.spacehalloffame.org
SUMMARY:Closed Christmas Day
DESCRIPTION:
URL:https://www.spacehalloffame.org/event/closed-christmas-day/2023-12-25/
LOCATION:New Mexico Museum of Space History\, 3198 State Route 2001\, Alamogordo\, NM\, 88310\, United States
END:VEVENT
BEGIN:VEVENT
DTSTART;TZID=America/Denver:20231123T000000
DTEND;TZID=America/Denver:20231123T235959
DTSTAMP:20260425T055133
CREATED:20211122T121138Z
LAST-MODIFIED:20211122T121139Z
UID:10000004-1700697600-1700783999@www.spacehalloffame.org
SUMMARY:Closed Thanksgiving Day
DESCRIPTION:
URL:https://www.spacehalloffame.org/event/closed-thanksgiving-day/2023-11-23/
LOCATION:New Mexico Museum of Space History\, 3198 State Route 2001\, Alamogordo\, NM\, 88310\, United States
END:VEVENT
BEGIN:VEVENT
DTSTART;TZID=America/Denver:20231021T060000
DTEND;TZID=America/Denver:20231021T160000
DTSTAMP:20260425T055133
CREATED:20211107T000142Z
LAST-MODIFIED:20240315T173853Z
UID:10000091-1697868000-1697904000@www.spacehalloffame.org
SUMMARY:Trinity Site Fall Motor Coach Tour
DESCRIPTION:Trinity Site Obelisk \n\n\n\n\n\n\n\nInternational Space Hall of Fame Foundation Fundraising Event to Support the New Mexico Museum of Space History
URL:https://www.spacehalloffame.org/event/trinity-site-motor-coach-tour-2023-10-14-2023-10-21/2023-10-21/
LOCATION:New Mexico Museum of Space History\, 3198 State Route 2001\, Alamogordo\, NM\, 88310\, United States
CATEGORIES:Trinity Site Motor Coach Tour
ATTACH;FMTTYPE=image/jpeg:https://www.spacehalloffame.org/files/wp-content/uploads/Trinity-monument-courtesy-LANL.jpg
END:VEVENT
BEGIN:VEVENT
DTSTART;TZID=America/Denver:20230704T180000
DTEND;TZID=America/Denver:20230704T220000
DTSTAMP:20260425T055133
CREATED:20220528T003446Z
LAST-MODIFIED:20230613T190058Z
UID:10000102-1688493600-1688508000@www.spacehalloffame.org
SUMMARY:July 4th Extravaganza Drive In
DESCRIPTION:Supporting the New Mexico Museum of Space History
URL:https://www.spacehalloffame.org/event/july-4th-extravaganza-drive-in/2023-07-04/
LOCATION:New Mexico Museum of Space History\, 3198 State Route 2001\, Alamogordo\, NM\, 88310\, United States
CATEGORIES:July 4th Drive In,Special Events
ATTACH;FMTTYPE=image/jpeg:https://www.spacehalloffame.org/files/wp-content/uploads/cropped-MG_9441bw.jpg
END:VEVENT
BEGIN:VEVENT
DTSTART;TZID=America/Denver:20230704T170000
DTEND;TZID=America/Denver:20230704T200000
DTSTAMP:20260425T055133
CREATED:20230613T193244Z
LAST-MODIFIED:20230613T194118Z
UID:10000112-1688490000-1688500800@www.spacehalloffame.org
SUMMARY:Dinner with Astronaut\, Danny Olivas
DESCRIPTION:Supporting the New Mexico Museum of Space History
URL:https://www.spacehalloffame.org/event/dinner-with-astronaut-danny-olivas/
LOCATION:New Mexico Museum of Space History\, 3198 State Route 2001\, Alamogordo\, NM\, 88310\, United States
CATEGORIES:Special Events
ATTACH;FMTTYPE=image/jpeg:https://www.spacehalloffame.org/files/wp-content/uploads/nac_olivas_john.jpg
END:VEVENT
BEGIN:VEVENT
DTSTART;TZID=America/Denver:20230629T100000
DTEND;TZID=America/Denver:20230629T170000
DTSTAMP:20260425T055133
CREATED:20240315T175116Z
LAST-MODIFIED:20240315T175116Z
UID:10000171-1688032800-1688058000@www.spacehalloffame.org
SUMMARY:Big Bang Festival
DESCRIPTION:Supporting the New Mexico Museum of Space History
URL:https://www.spacehalloffame.org/event/big-bang-festival-3/
LOCATION:New Mexico Museum of Space History\, 3198 State Route 2001\, Alamogordo\, NM\, 88310\, United States
CATEGORIES:Big Bang Festival,Special Events
ATTACH;FMTTYPE=image/png:https://www.spacehalloffame.org/files/wp-content/uploads/BigBangLogoISHFF-1.png
END:VEVENT
BEGIN:VEVENT
DTSTART;TZID=America/Denver:20230401T060000
DTEND;TZID=America/Denver:20230401T160000
DTSTAMP:20260425T055133
CREATED:20211107T000142Z
LAST-MODIFIED:20230125T153501Z
UID:10000001-1680328800-1680364800@www.spacehalloffame.org
SUMMARY:Trinity Site Motor Coach Tour
DESCRIPTION:Trinity Site Obelisk \n\n\n\n\n\n\n\nInternational Space Hall of Fame Foundation Fundraising Event to Support the New Mexico Museum of Space History
URL:https://www.spacehalloffame.org/event/trinity-site-motor-coach-tour-2023-04-08/
LOCATION:New Mexico Museum of Space History\, 3198 State Route 2001\, Alamogordo\, NM\, 88310\, United States
CATEGORIES:Trinity Site Motor Coach Tour
ATTACH;FMTTYPE=image/jpeg:https://www.spacehalloffame.org/files/wp-content/uploads/Trinity-monument-courtesy-LANL.jpg
END:VEVENT
BEGIN:VEVENT
DTSTART;TZID=America/Denver:20221225T000000
DTEND;TZID=America/Denver:20221225T235959
DTSTAMP:20260425T055133
CREATED:20211122T121304Z
LAST-MODIFIED:20211122T121305Z
UID:10000088-1671926400-1672012799@www.spacehalloffame.org
SUMMARY:Closed Christmas Day
DESCRIPTION:
URL:https://www.spacehalloffame.org/event/closed-christmas-day/2022-12-25/
LOCATION:New Mexico Museum of Space History\, 3198 State Route 2001\, Alamogordo\, NM\, 88310\, United States
END:VEVENT
BEGIN:VEVENT
DTSTART;TZID=America/Denver:20221124T000000
DTEND;TZID=America/Denver:20221124T235959
DTSTAMP:20260425T055133
CREATED:20211122T121138Z
LAST-MODIFIED:20211122T121139Z
UID:10000003-1669248000-1669334399@www.spacehalloffame.org
SUMMARY:Closed Thanksgiving Day
DESCRIPTION:
URL:https://www.spacehalloffame.org/event/closed-thanksgiving-day/2022-11-24/
LOCATION:New Mexico Museum of Space History\, 3198 State Route 2001\, Alamogordo\, NM\, 88310\, United States
END:VEVENT
BEGIN:VEVENT
DTSTART;TZID=America/Denver:20221015T060000
DTEND;TZID=America/Denver:20221015T160000
DTSTAMP:20260425T055133
CREATED:20211107T000142Z
LAST-MODIFIED:20211210T122035Z
UID:10000051-1665813600-1665849600@www.spacehalloffame.org
SUMMARY:Trinity Site Motor Coach Tour
DESCRIPTION:Trinity Site Obelisk \n\n\n\n\n\n\n\nInternational Space Hall of Fame Foundation Fundraising Event to Support the New Mexico Museum of Space History
URL:https://www.spacehalloffame.org/event/trinity-site-motor-coach-tour-2022-10-08/
LOCATION:New Mexico Museum of Space History\, 3198 State Route 2001\, Alamogordo\, NM\, 88310\, United States
CATEGORIES:Trinity Site Motor Coach Tour
ATTACH;FMTTYPE=image/jpeg:https://www.spacehalloffame.org/files/wp-content/uploads/Trinity-monument-courtesy-LANL.jpg
END:VEVENT
BEGIN:VEVENT
DTSTART;TZID=America/Denver:20220402T060000
DTEND;TZID=America/Denver:20220402T160000
DTSTAMP:20260425T055133
CREATED:20211107T000142Z
LAST-MODIFIED:20211210T121907Z
UID:10000010-1648879200-1648915200@www.spacehalloffame.org
SUMMARY:Trinity Site Motor Coach Tour
DESCRIPTION:Workers unload core of the bomb at McDonald Ranch\n\n\n\nTrinity Site Motorcoach Tour Registration Opens for April 2022 \n\n\n\n(Alamogordo\, New Mexico\, December 2\, 2021) – The International Space Hall of Fame Foundation (ISHFF) and New Mexico Museum of Space History are excited to announce that their popular motorcoach tour to Trinity Site is approaching the sold-out mark for the April 9\, 2022\, event. \n\n\n\n“For the past seven years\, the Foundation and Museum have worked together to host a motorcoach tour to Trinity Site as a fundraiser for the Foundation\, and now the secret is finally out – taking our motorcoach really is the best way to visit the site\,” said Museum Executive Director Chris Orwoll. The motorcoach trip includes an onboard historian\, brownbag lunch\, an onboard movie\, and museum tour upon return. \n\n\n\nPre-event reservations for the motorcoach tour have been ongoing since the October 2021 event\, which sold out early and had a record number of six coaches for the tour. “Prior to this past October\, we typically had two or three coaches filled for the trip to Trinity but we were delighted to fill six in October\,” said ISHFF President Johnny Powell. “When last October sold out\, we began taking reservations for April 2022 and were immediately overwhelmed.” The ISHFF reserved another six coaches\, with a capacity of approximately 310 guests\, for the April 2022 trip. \n\n\n\nEveryone who reserved space prior to November 29\, 2021\, was invited to complete their registrations first\, and by the December 2 deadline\, three of the six coaches were filled. Registration for April 2022 opens December 3 and will remain open until the coaches are filled. When the April tour is sold out\, guests will be redirected to the reservation page for October 2022. \n\n\n\nFor more information about the motorcoach tour\, visit https://www.spacehalloffame.org/trinity-site-tour-registration/ \n\n\n\nTwo times each year\, White Sands Missile Range opens the historic site to the public. Beginning in 2022\, those dates will be the second Saturdays in April and October. Trinity Site is where the world’s first atomic bomb was detonated on July 16\, 1945. Each year\, White Sands Missile Range hosts several thousand visitors to the site. \n\n\n\nThe New Mexico Museum of Space History\, a Smithsonian Affiliate\, is a division of the NM Department of Cultural Affairs. For more information\, call 575-437-2840 or visit the website at www.nmspacemuseum.org. Like us at: www.facebook.com/NMSpaceMuseum/ \n\n\n\n\n\n\n\nInternational Space Hall of Fame Foundation Fundraising Event to Support the New Mexico Museum of Space History
URL:https://www.spacehalloffame.org/event/trinity-site-motor-coach-tour/
LOCATION:New Mexico Museum of Space History\, 3198 State Route 2001\, Alamogordo\, NM\, 88310\, United States
CATEGORIES:Trinity Site Motor Coach Tour
ATTACH;FMTTYPE=image/jpeg:https://www.spacehalloffame.org/files/wp-content/uploads/Workers-unload-core-of-the-bomb-at-McDonald-Ranch-House.-WSMR.jpg
END:VEVENT
BEGIN:VEVENT
DTSTART;TZID=America/Denver:20211225T000000
DTEND;TZID=America/Denver:20211225T235959
DTSTAMP:20260425T055133
CREATED:20211122T121304Z
LAST-MODIFIED:20211122T121305Z
UID:10000087-1640390400-1640476799@www.spacehalloffame.org
SUMMARY:Closed Christmas Day
DESCRIPTION:
URL:https://www.spacehalloffame.org/event/closed-christmas-day/2021-12-25/
LOCATION:New Mexico Museum of Space History\, 3198 State Route 2001\, Alamogordo\, NM\, 88310\, United States
END:VEVENT
BEGIN:VEVENT
DTSTART;TZID=America/Denver:20211125T000000
DTEND;TZID=America/Denver:20211125T235959
DTSTAMP:20260425T055133
CREATED:20211122T121138Z
LAST-MODIFIED:20211122T121139Z
UID:10000002-1637798400-1637884799@www.spacehalloffame.org
SUMMARY:Closed Thanksgiving Day
DESCRIPTION:
URL:https://www.spacehalloffame.org/event/closed-thanksgiving-day/2021-11-25/
LOCATION:New Mexico Museum of Space History\, 3198 State Route 2001\, Alamogordo\, NM\, 88310\, United States
END:VEVENT
BEGIN:VEVENT
DTSTART;TZID=America/Denver:20211105T090000
DTEND;TZID=America/Denver:20211105T110000
DTSTAMP:20260425T055133
CREATED:20211106T225941Z
LAST-MODIFIED:20211201T124700Z
UID:10000009-1636102800-1636110000@www.spacehalloffame.org
SUMMARY:Launch Pad Lecture - Where No Man Has Gone Before: 50 Years of Star Trek
DESCRIPTION:The New Mexico Museum of Space History is pleased to announce that its popular Launch Pad Lecture speaker series will resume on November 5th\, after a hiatus of more than a year and a half due to the COVID-19 pandemic. The first program will be “Where No Man Has Gone Before: 55 Years of Star Trek.” It will be held on the second floor of the museum beginning at 9:00 am and is free to the public. \n\n\n\nMuseum Executive Director Christopher Orwoll will present the program and discuss the creation and lasting legacy of Gene Roddenberry’s “Star Trek.” The original series\, first airing in 1966\, spawned a plethora of spin-off television shows\, feature length films\, books\, comics\, and even museum exhibits.  Orwoll will look at the continuing fascination with the world of Star Trek and even preview the museum’s new Sci-Fi/Sci-Fact exhibit that will incorporate elements of Rodenberry’s vision of a better future. \n\n\n\nGene Roddenberry was inducted into the museum’s International Space Hall of Fame in 2016. An exhibit dedicated to him remains a popular attraction at the museum\, with visitors from across the world taking advantage of the photo opportunity presented by the transporter mock-up. \n\n\n\nThe Launch Pad Lecture begins at 9:00 am on the museum’s first floor and is free to the public. Coffee and donuts are compliments of the International Space Hall of Fame Foundation.  The next Launch Pad Lecture will be held on Friday\, December 2. \n\n\n\n\n\n\n\nChris Orwoll – Executive Director of the New Mexico Museum of Space History
URL:https://www.spacehalloffame.org/event/launch-pad-lecture-series/
LOCATION:New Mexico Museum of Space History\, 3198 State Route 2001\, Alamogordo\, NM\, 88310\, United States
CATEGORIES:Launch Pad Lecture Series
ATTACH;FMTTYPE=image/jpeg:https://www.spacehalloffame.org/files/wp-content/uploads/Roddenberry-on-set-credit-Everett-Collection.jpg
END:VEVENT
BEGIN:VEVENT
DTSTART;TZID=America/Denver:20211002T060000
DTEND;TZID=America/Denver:20211002T160000
DTSTAMP:20260425T055133
CREATED:20211106T234110Z
LAST-MODIFIED:20211106T235346Z
UID:10000011-1633154400-1633190400@www.spacehalloffame.org
SUMMARY:Trinity Site Motor Coach Tour - October 2\, 2021
DESCRIPTION:
URL:https://www.spacehalloffame.org/event/trinity-site-motor-coach-tour-october-2-2021/
LOCATION:New Mexico Museum of Space History\, 3198 State Route 2001\, Alamogordo\, NM\, 88310\, United States
CATEGORIES:Trinity Site Motor Coach Tour
ATTACH;FMTTYPE=image/jpeg:https://www.spacehalloffame.org/files/wp-content/uploads/Trinity-monument-courtesy-LANL.jpg
END:VEVENT
END:VCALENDAR