BEGIN:VCALENDAR
VERSION:2.0
PRODID:-//International Space Hall of Fame Foundation - ECPv6.15.20//NONSGML v1.0//EN
CALSCALE:GREGORIAN
METHOD:PUBLISH
X-WR-CALNAME:International Space Hall of Fame Foundation
X-ORIGINAL-URL:https://www.spacehalloffame.org
X-WR-CALDESC:Events for International Space Hall of Fame Foundation
REFRESH-INTERVAL;VALUE=DURATION:PT1H
X-Robots-Tag:noindex
X-PUBLISHED-TTL:PT1H
BEGIN:VTIMEZONE
TZID:America/Denver
BEGIN:DAYLIGHT
TZOFFSETFROM:-0700
TZOFFSETTO:-0600
TZNAME:MDT
DTSTART:20250309T090000
END:DAYLIGHT
BEGIN:STANDARD
TZOFFSETFROM:-0600
TZOFFSETTO:-0700
TZNAME:MST
DTSTART:20251102T080000
END:STANDARD
BEGIN:DAYLIGHT
TZOFFSETFROM:-0700
TZOFFSETTO:-0600
TZNAME:MDT
DTSTART:20260308T090000
END:DAYLIGHT
BEGIN:STANDARD
TZOFFSETFROM:-0600
TZOFFSETTO:-0700
TZNAME:MST
DTSTART:20261101T080000
END:STANDARD
BEGIN:DAYLIGHT
TZOFFSETFROM:-0700
TZOFFSETTO:-0600
TZNAME:MDT
DTSTART:20270314T090000
END:DAYLIGHT
BEGIN:STANDARD
TZOFFSETFROM:-0600
TZOFFSETTO:-0700
TZNAME:MST
DTSTART:20271107T080000
END:STANDARD
END:VTIMEZONE
BEGIN:VEVENT
DTSTART;TZID=America/Denver:20260627T100000
DTEND;TZID=America/Denver:20260627T140000
DTSTAMP:20260422T225803
CREATED:20260413T151002Z
LAST-MODIFIED:20260413T151004Z
UID:10000304-1782554400-1782568800@www.spacehalloffame.org
SUMMARY:Big Bang STEM Expo
DESCRIPTION:Supporting the New Mexico Museum of Space History
URL:https://www.spacehalloffame.org/event/big-bang-stem-expo/
LOCATION:New Mexico Museum of Space History\, 3198 State Route 2001\, Alamogordo\, NM\, 88310\, United States
CATEGORIES:Big Bang Festival,Special Events
ATTACH;FMTTYPE=image/jpeg:https://www.spacehalloffame.org/files/wp-content/uploads/FB_Event_BigBang-6th-Annual.jpg
END:VEVENT
BEGIN:VEVENT
DTSTART;TZID=America/Denver:20260703T090000
DTEND;TZID=America/Denver:20260703T110000
DTSTAMP:20260422T225803
CREATED:20211106T225941Z
LAST-MODIFIED:20250729T003348Z
UID:10000192-1783069200-1783076400@www.spacehalloffame.org
SUMMARY:Launch Pad Lecture - Series
DESCRIPTION:Guest Speakers Series presented by the New Mexico Museum of Space History \n\n\n\n\n\n\n\nEvent support provided by the ISHF Foundation \n\n\n\nInternational Space Hall of Fame Foundation
URL:https://www.spacehalloffame.org/event/launch-pad-lecture-series-2021-12-03-2022-01-07-2022-03-04/2026-07-03/
LOCATION:NM Museum of Space History – 2nd Floor\, 3198 State Route 2001\, Alamogordo\, NM\, 88310\, United States
CATEGORIES:Launch Pad Lecture Series
ATTACH;FMTTYPE=image/jpeg:https://www.spacehalloffame.org/files/wp-content/uploads/cropped-MG_9440-2.jpg
END:VEVENT
BEGIN:VEVENT
DTSTART;TZID=America/Denver:20260704T180000
DTEND;TZID=America/Denver:20260704T220000
DTSTAMP:20260422T225803
CREATED:20220528T003446Z
LAST-MODIFIED:20230613T190058Z
UID:10000105-1783188000-1783202400@www.spacehalloffame.org
SUMMARY:July 4th Extravaganza Drive In
DESCRIPTION:Supporting the New Mexico Museum of Space History
URL:https://www.spacehalloffame.org/event/july-4th-extravaganza-drive-in/2026-07-04/
LOCATION:New Mexico Museum of Space History\, 3198 State Route 2001\, Alamogordo\, NM\, 88310\, United States
CATEGORIES:July 4th Drive In,Special Events
ATTACH;FMTTYPE=image/jpeg:https://www.spacehalloffame.org/files/wp-content/uploads/cropped-MG_9441bw.jpg
END:VEVENT
BEGIN:VEVENT
DTSTART;TZID=America/Denver:20260706T080000
DTEND;TZID=America/Denver:20260710T120000
DTSTAMP:20260422T225803
CREATED:20260413T145630Z
LAST-MODIFIED:20260413T145632Z
UID:10000302-1783324800-1783684800@www.spacehalloffame.org
SUMMARY:Rocketeer Academy 2026 Week 1
DESCRIPTION:
URL:https://www.spacehalloffame.org/event/rocketeer-academy-2026-week-1/
LOCATION:New Mexico Museum of Space History\, 3198 State Route 2001\, Alamogordo\, NM\, 88310\, United States
ATTACH;FMTTYPE=image/jpeg:https://www.spacehalloffame.org/files/wp-content/uploads/2026-Summer-camp-web-banner-generic.jpg
END:VEVENT
END:VCALENDAR